BEGIN:VCALENDAR
VERSION:2.0
PRODID:-//Mur is Doll - Chorgesang von Gospel bis Swing e.V. - ECPv6.15.20//NONSGML v1.0//EN
CALSCALE:GREGORIAN
METHOD:PUBLISH
X-WR-CALNAME:Mur is Doll - Chorgesang von Gospel bis Swing e.V.
X-ORIGINAL-URL:https://murisdoll.de
X-WR-CALDESC:Veranstaltungen für Mur is Doll - Chorgesang von Gospel bis Swing e.V.
REFRESH-INTERVAL;VALUE=DURATION:PT1H
X-Robots-Tag:noindex
X-PUBLISHED-TTL:PT1H
BEGIN:VTIMEZONE
TZID:Europe/Berlin
BEGIN:DAYLIGHT
TZOFFSETFROM:+0100
TZOFFSETTO:+0200
TZNAME:CEST
DTSTART:20250330T010000
END:DAYLIGHT
BEGIN:STANDARD
TZOFFSETFROM:+0200
TZOFFSETTO:+0100
TZNAME:CET
DTSTART:20251026T010000
END:STANDARD
BEGIN:DAYLIGHT
TZOFFSETFROM:+0100
TZOFFSETTO:+0200
TZNAME:CEST
DTSTART:20260329T010000
END:DAYLIGHT
BEGIN:STANDARD
TZOFFSETFROM:+0200
TZOFFSETTO:+0100
TZNAME:CET
DTSTART:20261025T010000
END:STANDARD
BEGIN:DAYLIGHT
TZOFFSETFROM:+0100
TZOFFSETTO:+0200
TZNAME:CEST
DTSTART:20270328T010000
END:DAYLIGHT
BEGIN:STANDARD
TZOFFSETFROM:+0200
TZOFFSETTO:+0100
TZNAME:CET
DTSTART:20271031T010000
END:STANDARD
END:VTIMEZONE
BEGIN:VEVENT
DTSTART;TZID=Europe/Berlin:20261010T130000
DTEND;TZID=Europe/Berlin:20261010T150000
DTSTAMP:20260422T042334
CREATED:20260310T170718Z
LAST-MODIFIED:20260310T170718Z
UID:3686-1791637200-1791644400@murisdoll.de
SUMMARY:Choreo-Probe in der Judohalle
DESCRIPTION:Vor unserem großen Konzert im Oktober noch einige Male mit euch in die Judohalle möchten. Für alle\, die die Judohalle noch nicht kennen: Das ist eine Halle mit großen Spiegeln\, in der wir gut an unseren Choreographien\, aber auch an unserem mimischen Ausdruck etc. arbeiten können.
URL:https://murisdoll.de/termin/choreo-probe-in-der-judohalle-3/
CATEGORIES:Choreo-Probe
END:VEVENT
END:VCALENDAR